BEGIN:VCALENDAR
VERSION:2.0
PRODID:-//South Bersted Primary School - ECPv5.1.6//NONSGML v1.0//EN
CALSCALE:GREGORIAN
METHOD:PUBLISH
X-WR-CALNAME:South Bersted Primary School
X-ORIGINAL-URL:http://southbersted.samosman.co.uk
X-WR-CALDESC:Events for South Bersted Primary School
BEGIN:VTIMEZONE
TZID:Europe/London
BEGIN:DAYLIGHT
TZOFFSETFROM:+0000
TZOFFSETTO:+0100
TZNAME:BST
DTSTART:20200329T010000
END:DAYLIGHT
BEGIN:STANDARD
TZOFFSETFROM:+0100
TZOFFSETTO:+0000
TZNAME:GMT
DTSTART:20201025T010000
END:STANDARD
END:VTIMEZONE
BEGIN:VEVENT
DTSTART;VALUE=DATE:20200207
DTEND;VALUE=DATE:20200208
DTSTAMP:20260421T100428
CREATED:20200205T113517Z
LAST-MODIFIED:20200205T113517Z
UID:11854-1581033600-1581119999@southbersted.samosman.co.uk
SUMMARY:Non-Uniform Day
DESCRIPTION:Children may wear their own clothes to school.  Donations towards our charity of the year\, The Chestnut Tree House Children’s Hospice\, are welcomed (suggestion £1)
URL:http://southbersted.samosman.co.uk/calendar/non-uniform-day-6-2/
END:VEVENT
END:VCALENDAR